BEGIN:VCALENDAR
VERSION:2.0
PRODID:DPCALENDAR
CALSCALE:GREGORIAN
BEGIN:VTIMEZONE
TZID:Europe/Berlin
X-MICROSOFT-CDO-TZID:4
BEGIN:STANDARD
DTSTART:20251026T010000
TZOFFSETFROM:+0200
TZOFFSETTO:+0100
TZNAME:CET
END:STANDARD
BEGIN:STANDARD
DTSTART:20261025T010000
TZOFFSETFROM:+0200
TZOFFSETTO:+0100
TZNAME:CET
END:STANDARD
BEGIN:DAYLIGHT
DTSTART:20260329T010000
TZOFFSETFROM:+0100
TZOFFSETTO:+0200
TZNAME:CEST
END:DAYLIGHT
END:VTIMEZONE
X-WR-TIMEZONE:Europe/Berlin
BEGIN:VEVENT
DTSTART;TZID=Europe/Berlin:20230702T090000
DTEND;TZID=Europe/Berlin:20230702T100000
UID:25199913-0FC6-4405-99DA-AAC08816C5BF
SUMMARY:Polednik
CREATED:20221126T163814Z
DTSTAMP:20221126T163814Z
URL:http://nicepage.dav-freyung.de/index.php/component/dpcalendar/event/177?calid=66
DESCRIPTION:AP/EP: Parkplatz Wistlberg – 9.00 UhrTourenführer: Franz Uhrmann Mobil: 0172 – 1743654
X-ALT-DESC;FMTTYPE=text/html:<p>AP/EP: Parkplatz Wistlberg – 9.00 Uhr<br />Tourenführer: Franz Uhrmann Mobil: 0172 – 1743654</p>
LAST-MODIFIED:20230108T085523Z
SEQUENCE:3687429
LOCATION:
GEO:49.06396906;13.39447975
X-LOCATION-DISPLAYNAME:Mittagsberg
X-ACCESS:1
X-HITS:37
X-COLOR:268a4e
X-SHOW-END-TIME:0
END:VEVENT
BEGIN:VEVENT
DTSTART;TZID=Europe/Berlin:20230715T060000
DTEND;TZID=Europe/Berlin:20230716T210000
UID:32177E8C-8D7E-48C5-A60A-47488E12BBFD
SUMMARY:Hintergebirgsradweg
CREATED:20221127T152908Z
DTSTAMP:20221127T152908Z
URL:http://nicepage.dav-freyung.de/index.php/component/dpcalendar/event/180?calid=66
DESCRIPTION:Tag 1: 80 km / ↑1680 Hm – Tag 2: 73 km /↑550 Hm/↓1250 Hm .AP/EP: Parkplatz LRA Freyung – 6.00 UhrGeschäftsstelle Passau – 7.00 UhrTourenführer: Franz Uhrmann Mobil: 0172 – 1743654
X-ALT-DESC;FMTTYPE=text/html:<p>Tag 1: 80 km / ↑1680 Hm – Tag 2: 73 km /↑550 Hm/↓1250 Hm .<br />AP/EP: Parkplatz LRA Freyung – 6.00 Uhr<br />Geschäftsstelle Passau – 7.00 Uhr<br />Tourenführer: Franz Uhrmann Mobil: 0172 – 1743654</p>
LAST-MODIFIED:20230108T085546Z
SEQUENCE:3605198
LOCATION:Großraming
GEO:47.89263631;14.50057983
X-LOCATION-DISPLAYNAME:Hintergebirgsradweg
X-ACCESS:1
X-HITS:39
X-COLOR:268a4e
X-SHOW-END-TIME:1
END:VEVENT
BEGIN:VEVENT
DTSTART;TZID=Europe/Berlin:20240630T090000
DTEND;TZID=Europe/Berlin:20240630T100000
UID:8328F6E7-09CF-446E-B150-365D3D2E6A03
SUMMARY:E-Bike Tour zu den Eiszeitseen im Böhmerwald
CREATED:20231127T133747Z
DTSTAMP:20231127T133747Z
URL:http://nicepage.dav-freyung.de/index.php/component/dpcalendar/event/247?calid=66
DESCRIPTION:1290 Hm / Fahrzeit 6 Std.AP/EP: Jungmaierhütte – 9.00 UhrTourenführer: Franz Uhrmann Mail: franzuhrmann7@gmail.com
X-ALT-DESC;FMTTYPE=text/html:<p>1290 Hm / Fahrzeit 6 Std.<br />AP/EP: Jungmaierhütte – 9.00 Uhr<br />Tourenführer: Franz Uhrmann Mail: <a href="mailto:franzuhrmann7@gmail.com">franzuhrmann7@gmail.com</a></p>
X-ACCESS:1
X-HITS:34
X-COLOR:268a4e
X-SHOW-END-TIME:0
END:VEVENT
BEGIN:VEVENT
DTSTART;TZID=Europe/Berlin:20240915T090000
DTEND;TZID=Europe/Berlin:20240915T100000
UID:2447BC68-EAF2-419A-83FF-CCC3A4DBAB53
SUMMARY:Mit dem E-Bike auf den Polom und zum Lakasee
CREATED:20231127T155136Z
DTSTAMP:20231127T155136Z
URL:http://nicepage.dav-freyung.de/index.php/component/dpcalendar/event/267?calid=66
DESCRIPTION:1050 Hm / Fahrzeit 6 Std.AP/EP: Bahnhof Bayrisch Eisenstein – 9.00 UhrTourenführer: Franz Uhrmann Mail: franzuhrmann7@gmail.com
X-ALT-DESC;FMTTYPE=text/html:<p>1050 Hm / Fahrzeit 6 Std.<br />AP/EP: Bahnhof Bayrisch Eisenstein – 9.00 Uhr<br />Tourenführer: Franz Uhrmann Mail: <a href="mailto:franzuhrmann7@gmail.com">franzuhrmann7@gmail.com</a></p>
LAST-MODIFIED:20231127T155644Z
SEQUENCE:308
LOCATION:
GEO:49.11083508;13.32804680
X-LOCATION-DISPLAYNAME:Lakasee
X-ACCESS:1
X-HITS:50
X-COLOR:268a4e
X-SHOW-END-TIME:0
END:VEVENT
BEGIN:VEVENT
DTSTART;TZID=Europe/Berlin:20250619T080000
DTEND;TZID=Europe/Berlin:20250619T090000
UID:3EE78D95-641F-4E38-A047-27385ECA1F27
SUMMARY:Rad-Tour mit E-Bike zur Burg Rabi
CREATED:20241205T085755Z
DTSTAMP:20241205T085755Z
URL:http://nicepage.dav-freyung.de/index.php/component/dpcalendar/event/313?calid=66
DESCRIPTION:46 km / 600 Hm / Fahrzeit 6 Std.AP/EP: Parkplatz Landhotel GH Brodinger – 8.00 Uhr  Tourenführer:  Franz Uhrmann Mobil: 0172 - 1743654
X-ALT-DESC;FMTTYPE=text/html:<p>46 km / 600 Hm / Fahrzeit 6 Std.<br />AP/EP: Parkplatz Landhotel GH Brodinger – 8.00 Uhr <br /> Tourenführer:&nbsp; Franz Uhrmann Mobil: 0172 - 1743654</p>
LOCATION:169\, Rabi\, Südwesten\, Tschechien
GEO:49.27916475;13.61826864
X-LOCATION-DISPLAYNAME:hrad Rabí
X-ACCESS:1
X-HITS:21
X-COLOR:268a4e
X-SHOW-END-TIME:0
X-PUBLISH-UP:2024-12-13 08:57:46
END:VEVENT
BEGIN:VEVENT
DTSTART;TZID=Europe/Berlin:20260604T090000
DTEND;TZID=Europe/Berlin:20260604T100000
UID:F85D10EE-3820-48E5-ACA7-1301D211724C
SUMMARY:E-BIkeTour Schwarzsee 1020 m und Nyrsko Stausee
CREATED:20251210T165545Z
DTSTAMP:20251210T165545Z
URL:http://nicepage.dav-freyung.de/index.php/component/dpcalendar/event/376?calid=66
DESCRIPTION:600 Hm / Fahrzeit 7 Std.AP/EP: Parkplatz Landhotel GH Brodinger -- 9.00 UhrBahnhof Bayrisch Eisenstein 10.00 UhrTourenführer: Franz Uhrmann Mail: franzuhrmann7@gmail.com
X-ALT-DESC;FMTTYPE=text/html:<p>600 Hm / Fahrzeit 7 Std.<br />AP/EP: Parkplatz Landhotel GH Brodinger -- 9.00 Uhr<br />Bahnhof Bayrisch Eisenstein 10.00 Uhr<br />Tourenführer: Franz Uhrmann Mail: <a href="mailto:franzuhrmann7@gmail.com">franzuhrmann7@gmail.com</a></p>
LAST-MODIFIED:20251210T165836Z
SEQUENCE:171
LOCATION:
GEO:49.12121409;13.20794821
X-LOCATION-DISPLAYNAME:Bayrisch Eisenstein Bahnhof
X-ACCESS:1
X-HITS:1
X-COLOR:268a4e
X-SHOW-END-TIME:0
END:VEVENT
BEGIN:VEVENT
DTSTART;TZID=Europe/Berlin:20260614T060000
DTEND;TZID=Europe/Berlin:20260614T070000
UID:4D491034-B425-4174-8908-33198B993047
SUMMARY:Radtour zu den Gletscherseen bei Bad Endorf
CREATED:20251211T170724Z
DTSTAMP:20251211T170724Z
URL:http://nicepage.dav-freyung.de/index.php/component/dpcalendar/event/382?calid=66
DESCRIPTION:AP/EP: Parkplatz Landhotel GH Brodinger – 6.00 UhrMeldeschluss: 5. Juni 2026Tourenführer: Franz Uhrmann Mail: franzuhrmann7@gmail.com
X-ALT-DESC;FMTTYPE=text/html:<p>AP/EP: Parkplatz Landhotel GH Brodinger – 6.00 Uhr<br />Meldeschluss: 5. Juni 2026<br />Tourenführer: Franz Uhrmann Mail: <a href="mailto:franzuhrmann7@gmail.com">franzuhrmann7@gmail.com</a></p>
LOCATION:Katharinenheimstraße 6b\, 83093 Bad Endorf\, Bayern\, Deutschland
GEO:47.90641100;12.30136970
X-LOCATION-DISPLAYNAME:Bad Endorf
X-ACCESS:1
X-HITS:2
X-COLOR:268a4e
X-SHOW-END-TIME:0
END:VEVENT
END:VCALENDAR